BEGIN:VCALENDAR
VERSION:2.0
PRODID:-//Campagne pour une Meilleure Audition - ECPv5.8.1//NONSGML v1.0//EN
CALSCALE:GREGORIAN
METHOD:PUBLISH
X-WR-CALNAME:Campagne pour une Meilleure Audition
X-ORIGINAL-URL:https://www.pourunemeilleureaudition.fr
X-WR-CALDESC:évènements pour Campagne pour une Meilleure Audition
BEGIN:VTIMEZONE
TZID:Europe/Paris
BEGIN:DAYLIGHT
TZOFFSETFROM:+0100
TZOFFSETTO:+0200
TZNAME:CEST
DTSTART:20240331T010000
END:DAYLIGHT
BEGIN:STANDARD
TZOFFSETFROM:+0200
TZOFFSETTO:+0100
TZNAME:CET
DTSTART:20241027T010000
END:STANDARD
END:VTIMEZONE
BEGIN:VEVENT
DTSTART;TZID=Europe/Paris:20241114T100000
DTEND;TZID=Europe/Paris:20241114T170000
DTSTAMP:20260424T024118
CREATED:20241106T085134Z
LAST-MODIFIED:20241106T085134Z
UID:3317-1731578400-1731603600@www.pourunemeilleureaudition.fr
SUMMARY:Poitiers
DESCRIPTION:Nous vous accueillons toute la journée pour un dépistage auditif gratuit. C’est le moment de faire le point et d’échanger avec nos spécialistes !
URL:https://www.pourunemeilleureaudition.fr/evenements/poitiers/
LOCATION:Poitiers\, place charles de gaulles\, France
END:VEVENT
BEGIN:VEVENT
DTSTART;TZID=Europe/Paris:20241114T100000
DTEND;TZID=Europe/Paris:20241114T170000
DTSTAMP:20260424T024118
CREATED:20241106T085254Z
LAST-MODIFIED:20241106T085254Z
UID:3319-1731578400-1731603600@www.pourunemeilleureaudition.fr
SUMMARY:Enghien
DESCRIPTION:Nous vous accueillons toute la journée pour un dépistage auditif gratuit. C’est le moment de faire le point et d’échanger avec nos spécialistes !
URL:https://www.pourunemeilleureaudition.fr/evenements/enghien/
LOCATION:Enghien les bains\, Place Maréchal Foch\, Enghien\, France
END:VEVENT
END:VCALENDAR