BEGIN:VCALENDAR
VERSION:2.0
PRODID:-//Campagne pour une Meilleure Audition - ECPv5.8.1//NONSGML v1.0//EN
CALSCALE:GREGORIAN
METHOD:PUBLISH
X-WR-CALNAME:Campagne pour une Meilleure Audition
X-ORIGINAL-URL:https://www.pourunemeilleureaudition.fr
X-WR-CALDESC:évènements pour Campagne pour une Meilleure Audition
BEGIN:VTIMEZONE
TZID:Europe/Paris
BEGIN:DAYLIGHT
TZOFFSETFROM:+0100
TZOFFSETTO:+0200
TZNAME:CEST
DTSTART:20250330T010000
END:DAYLIGHT
BEGIN:STANDARD
TZOFFSETFROM:+0200
TZOFFSETTO:+0100
TZNAME:CET
DTSTART:20251026T010000
END:STANDARD
END:VTIMEZONE
BEGIN:VEVENT
DTSTART;TZID=Europe/Paris:20250404T080000
DTEND;TZID=Europe/Paris:20250404T140000
DTSTAMP:20260425T145319
CREATED:20250331T075645Z
LAST-MODIFIED:20250331T075645Z
UID:3598-1743753600-1743775200@www.pourunemeilleureaudition.fr
SUMMARY:cournon
DESCRIPTION:Nous vous accueillons toute la journée pour un dépistage auditif gratuit. C’est le moment de faire le point et d’échanger avec nos spécialistes !
URL:https://www.pourunemeilleureaudition.fr/evenements/cournon-2/
LOCATION:cournon d’auvergne\, place de dômes\, cournon d'auvergne\, France
END:VEVENT
END:VCALENDAR