BEGIN:VCALENDAR
VERSION:2.0
PRODID:-//Campagne pour une Meilleure Audition - ECPv5.8.1//NONSGML v1.0//EN
CALSCALE:GREGORIAN
METHOD:PUBLISH
X-WR-CALNAME:Campagne pour une Meilleure Audition
X-ORIGINAL-URL:https://www.pourunemeilleureaudition.fr
X-WR-CALDESC:évènements pour Campagne pour une Meilleure Audition
BEGIN:VTIMEZONE
TZID:Europe/Paris
BEGIN:DAYLIGHT
TZOFFSETFROM:+0100
TZOFFSETTO:+0200
TZNAME:CEST
DTSTART:20200329T010000
END:DAYLIGHT
BEGIN:STANDARD
TZOFFSETFROM:+0200
TZOFFSETTO:+0100
TZNAME:CET
DTSTART:20201025T010000
END:STANDARD
END:VTIMEZONE
BEGIN:VEVENT
DTSTART;TZID=Europe/Paris:20200305T100000
DTEND;TZID=Europe/Paris:20200305T170000
DTSTAMP:20260423T102325
CREATED:20200213T084703Z
LAST-MODIFIED:20200213T084703Z
UID:1078-1583402400-1583427600@www.pourunemeilleureaudition.fr
SUMMARY:Saint-Cyprien
DESCRIPTION:Nous vous accueillons toute la journée pour un dépistage auditif gratuit à Saint-Cyprien.\nVous avez des doutes sur votre audition ? Venez profiter d’un dépistage auditif gratuit proche de chez vous. C’est le moment de faire le point et d’échanger avec vos spécialistes !
URL:https://www.pourunemeilleureaudition.fr/evenements/saint-cyprien/
LOCATION:Saint-Cyprien\, Place de la Mairie\, Saint-Cyprien\, France
END:VEVENT
END:VCALENDAR